BEGIN:VCALENDAR
VERSION:2.0
PRODID:icalendar-ruby
CALSCALE:GREGORIAN
METHOD:PUBLISH
BEGIN:VEVENT
DTSTAMP:20260420T080011Z
UID:14-1311857@graygables.org
DTSTART:20260621T210000Z
DTEND:20260621T220000Z
CLASS:PUBLIC
CREATED:20260420T032547
DESCRIPTION:Adult Choir Practice (6th grade and up\, in the Sanctuary)\nKid
 s Choir Practice (Age 4 to 5th Grade\, in the Grow Building\, Room 111)
LAST-MODIFIED:20260420T032547
LOCATION:
SUMMARY:Choir Practice
URL;VALUE=URI:https://www.graygables.org/events/choir-practice/2026-06-21
ATTACH;FILENAME=3Serve.jpg;FMTTYPE=image/jpeg:https://dq5pwpg1q8ru0.cloudfr
 ont.net/2026/03/18/20/13/35/563599e5-9e3f-4131-83ee-9a0b8cbfc8e8/3Serve.jp
 g
END:VEVENT
END:VCALENDAR
