BEGIN:VCALENDAR
VERSION:2.0
PRODID:icalendar-ruby
CALSCALE:GREGORIAN
METHOD:PUBLISH
BEGIN:VEVENT
DTSTAMP:20260421T093504Z
UID:49-1305828@graygables.org
DTSTART:20260622T130000Z
DTEND:20260626T160000Z
CLASS:PUBLIC
CREATED:20260414T144706
DESCRIPTION:
LAST-MODIFIED:20260414T144706
LOCATION:
SUMMARY:VBS
URL;VALUE=URI:https://www.graygables.org/events/vbs--49/2026-06-22
END:VEVENT
END:VCALENDAR
